BEGIN:VCALENDAR
VERSION:2.0
PRODID:-//A.Moser Biglen - ECPv6.15.11//NONSGML v1.0//EN
CALSCALE:GREGORIAN
METHOD:PUBLISH
X-ORIGINAL-URL:https://moser-biglen.ch
X-WR-CALDESC:Veranstaltungen für A.Moser Biglen
REFRESH-INTERVAL;VALUE=DURATION:PT1H
X-Robots-Tag:noindex
X-PUBLISHED-TTL:PT1H
BEGIN:VTIMEZONE
TZID:UTC
BEGIN:STANDARD
TZOFFSETFROM:+0000
TZOFFSETTO:+0000
TZNAME:UTC
DTSTART:20200101T000000
END:STANDARD
END:VTIMEZONE
BEGIN:VEVENT
DTSTART;VALUE=DATE:20260226
DTEND;VALUE=DATE:20260302
DTSTAMP:20260425T141105
CREATED:20220928T072553Z
LAST-MODIFIED:20251122T102601Z
UID:11735-1772064000-1772409599@moser-biglen.ch
SUMMARY:Agrimesse Thun
DESCRIPTION:Informationen\n\n\n\n\n\nAgriMesse 2026\nSchweizerische Messe für Landwirtschaft\, Wald & Forst \nDonnerstag\, 26. Februar bis Sonntag\, 1. März 2026 \n  \nÖFFNUNGSZEITEN \nTäglich von 09.00 bis 17.00 Uhr \n  \nORT / MESSEGELÄNDE \nMessegelände thun-expo\nKasernenstrasse\n3600 Thun \nÜberischt Gelände \nGoogle Maps \n  \nKENNZAHLEN \nRund 200 Aussteller \nÜber 16’000 Quadratmeter Fläche \nRund 20’000 Besucher \n  \nPREISE \nErwachsene Fr. 8.00 \nJugendliche bis 16 Jahre gratis \n  \nALLGEMEINES \nGratis Parkplätze.\nPark-and-ride ab Parkplatz P7\, P8 und P9 – Situationsplan Parkplätze.\nDas Gelände ist rollstuhlgängig.\nTiere von Besuchern sind auf dem Messegelände nur an der Leine erlaubt.\nAuf dem Messegelände werden im Auftrag der AgriMesse Foto- und Videoaufnahmen gemacht.\nDiese können von uns für Werbe- und Marketingzwecke eingesetzt werden. Mit dem Eintritt an die AgriMesse geben Sie Ihr Einverständnis dafür. \nWICHTIGE INFORMATION ZUR BAUSTELLE MILITÄRSTRASSE \n  \nANREISE \nMit dem Öffentlichen Verkehr:\nBus STI Fahrplan Linie 6 ab Bahnhof Thun\nSBB Fahrplan\nFussweg vom Bahnhof Thun \n  \nMit dem Auto:\nAusfahrt Thun-Nord oder Thun-Süd\, Signalisation „thun-expo“.\nEs stehen die zwei Parkplätze P7\, P8 und P9 für die Besucher zur Verfügung – mit gratis P+R.\nWeitere Parkmöglichkeiten finden Sie in den nahegelegenen Parkhäuser. Behinderten Parkplätze stehen an der Kasernenstrasse direkt vor dem Messegelände zur Verfügung.\nBITTE BEACHTEN SIE DIE SIGNALISATIONEN.\nAnfahrtsplan \nVERPFLEGUNG \nNebst den Verpflegungsständen unserer Aussteller bieten Ihnen 4 Messerestaurants der Firma Toutvent AG viele Köstlichkeiten an:\n– Restaurant Alte Reithalle (Eingang Freigelände)\n– SAV-Stübli (Halle 1)\n– Waldbeizli (Halle 5)\n– Raclette-Stübli (Halle 7) \n  \nVERANSTALTER \nSchweizerische Agrotechnische Vereinigung SAV\nAssociation Agrotechnique Suisse AAS\nAssociazione Agrotecnica Svizzera AAS \nWebsite \n  \nDURCHFÜHRUNG \nDie AgriMesse findet jährlich\, Ende Februar oder anfangs März\, in Thun statt.
URL:https://moser-biglen.ch/event/agrimesse-thun-2/
END:VEVENT
BEGIN:VEVENT
DTSTART;VALUE=DATE:20260219
DTEND;VALUE=DATE:20260223
DTSTAMP:20260425T141105
CREATED:20220928T072526Z
LAST-MODIFIED:20250623T090009Z
UID:11733-1771459200-1771804799@moser-biglen.ch
SUMMARY:Tier & Technik St. Gallen
DESCRIPTION:
URL:https://moser-biglen.ch/event/tier-technik-st-gallen-2/
END:VEVENT
BEGIN:VEVENT
DTSTART;VALUE=DATE:20260711
DTEND;VALUE=DATE:20260726
DTSTAMP:20260425T141105
CREATED:20220928T071832Z
LAST-MODIFIED:20260404T082000Z
UID:11724-1783728000-1785023999@moser-biglen.ch
SUMMARY:Betriebsferien
DESCRIPTION:Betriebsferien vom Sa. 11.07.2026 bis Sa. 25.07.2026 \nBitte beachten Sie\, dass in dieser Zeit auch keine Shop Bestellungen bearbeitet werden und unser Verkaufsladen geschlossen ist.
URL:https://moser-biglen.ch/event/betriebsferien-2/
CATEGORIES:Betriebsferien
END:VEVENT
BEGIN:VEVENT
DTSTART;VALUE=DATE:20220224
DTEND;VALUE=DATE:20220228
DTSTAMP:20260425T141105
CREATED:20210204T161104Z
LAST-MODIFIED:20220722T070957Z
UID:443-1645660800-1646006399@moser-biglen.ch
SUMMARY:Tier & Technik St. Gallen
DESCRIPTION:21. Internationale Fachmesse für Nutztierhaltung\, landwirtschaftliche Produktion\, Spezialkulturen und Landtechnik \nWeitere Infos unter www.tierundtechnik.ch
URL:https://moser-biglen.ch/event/tier-technik-st-gallen/
CATEGORIES:Ausstellungen,Märkte
END:VEVENT
BEGIN:VEVENT
DTSTART;VALUE=DATE:20210304
DTEND;VALUE=DATE:20210308
DTSTAMP:20260425T141105
CREATED:20210204T162750Z
LAST-MODIFIED:20210204T162750Z
UID:461-1614816000-1615161599@moser-biglen.ch
SUMMARY:Agrimesse Thun
DESCRIPTION:21. Schweizerische Messe für Landwirtschaft\, Wald und Forst. \nBesuchen Sie uns in der Halle 0 Stand 01 \nWeiter Infos unter www.agrimesse.ch \nLEIDER AUCH ABGESAGT!
URL:https://moser-biglen.ch/event/agrimesse-thun/
END:VEVENT
END:VCALENDAR